Package: DTA Version: 2.53.0 Command: /home/biocbuild/R/R/bin/R CMD build --keep-empty-dirs --no-resave-data DTA StartedAt: 2025-01-28 22:36:49 -0000 (Tue, 28 Jan 2025) EndedAt: 2025-01-28 22:43:24 -0000 (Tue, 28 Jan 2025) EllapsedTime: 395.1 seconds RetCode: 0 Status: OK PackageFile: DTA_2.53.0.tar.gz PackageFileSize: 10.67 MiB