Package: DTA Version: 2.53.0 Command: /home/biocbuild/R/R/bin/R CMD INSTALL DTA StartedAt: 2025-01-29 19:30:33 -0000 (Wed, 29 Jan 2025) EndedAt: 2025-01-29 19:31:04 -0000 (Wed, 29 Jan 2025) EllapsedTime: 31.3 seconds RetCode: 0 Status: OK