Package: DTA Version: 2.53.0 Command: /Library/Frameworks/R.framework/Resources/bin/R CMD build --keep-empty-dirs --no-resave-data DTA StartedAt: 2025-02-09 16:37:48 -0500 (Sun, 09 Feb 2025) EndedAt: 2025-02-09 16:42:46 -0500 (Sun, 09 Feb 2025) EllapsedTime: 298.3 seconds RetCode: 0 Status: OK PackageFile: DTA_2.53.0.tar.gz PackageFileSize: 9.038 MiB