Package: DTA Version: 2.53.0 Command: /home/biocbuild/bbs-3.21-bioc/R/bin/R CMD build --keep-empty-dirs --no-resave-data DTA StartedAt: 2025-02-09 17:05:01 -0500 (Sun, 09 Feb 2025) EndedAt: 2025-02-09 17:09:53 -0500 (Sun, 09 Feb 2025) EllapsedTime: 292.4 seconds RetCode: 0 Status: OK PackageFile: DTA_2.53.0.tar.gz PackageFileSize: 11.19 MiB