Package: DTA Version: 2.53.0 Command: /home/biocbuild/bbs-3.21-bioc/R/bin/R CMD check --install=check:DTA.install-out.txt --library=/home/biocbuild/bbs-3.21-bioc/R/site-library --timings DTA_2.53.0.tar.gz StartedAt: 2025-02-09 21:57:05 -0500 (Sun, 09 Feb 2025) EndedAt: 2025-02-09 22:05:12 -0500 (Sun, 09 Feb 2025) EllapsedTime: 486.7 seconds RetCode: 0 Status: OK CheckDir: DTA.Rcheck Warnings: 0