Package: DTA Version: 2.53.0 Command: /home/biocbuild/bbs-3.21-bioc/R/bin/R CMD INSTALL DTA StartedAt: 2025-02-09 15:04:01 -0500 (Sun, 09 Feb 2025) EndedAt: 2025-02-09 15:04:22 -0500 (Sun, 09 Feb 2025) EllapsedTime: 21.4 seconds RetCode: 0 Status: OK