Package: DTA Version: 2.53.0 Command: E:\biocbuild\bbs-3.21-bioc\R\bin\R.exe CMD check --no-multiarch --install=check:DTA.install-out.txt --library=E:\biocbuild\bbs-3.21-bioc\R\library --no-vignettes --timings DTA_2.53.0.tar.gz StartedAt: 2025-02-05 01:09:52 -0500 (Wed, 05 Feb 2025) EndedAt: 2025-02-05 01:14:22 -0500 (Wed, 05 Feb 2025) EllapsedTime: 270.0 seconds RetCode: 0 Status: OK CheckDir: DTA.Rcheck Warnings: 0