Package: DaMiRseq Version: 2.19.0 Command: /Library/Frameworks/R.framework/Resources/bin/R CMD build --keep-empty-dirs --no-resave-data DaMiRseq StartedAt: 2025-02-09 16:03:24 -0500 (Sun, 09 Feb 2025) EndedAt: 2025-02-09 16:06:25 -0500 (Sun, 09 Feb 2025) EllapsedTime: 180.9 seconds RetCode: 0 Status: OK PackageFile: DaMiRseq_2.19.0.tar.gz PackageFileSize: 4.217 MiB