Package: DaMiRseq Version: 2.19.0 Command: /Library/Frameworks/R.framework/Resources/bin/R CMD check --install=check:DaMiRseq.install-out.txt --library=/Library/Frameworks/R.framework/Resources/library --no-vignettes --timings DaMiRseq_2.19.0.tar.gz StartedAt: 2025-02-09 18:49:58 -0500 (Sun, 09 Feb 2025) EndedAt: 2025-02-09 18:52:30 -0500 (Sun, 09 Feb 2025) EllapsedTime: 151.9 seconds RetCode: 0 Status: OK CheckDir: DaMiRseq.Rcheck Warnings: 0