Package: DaMiRseq Version: 2.19.0 Command: /Library/Frameworks/R.framework/Resources/bin/R CMD INSTALL DaMiRseq StartedAt: 2025-02-12 15:24:04 -0500 (Wed, 12 Feb 2025) EndedAt: 2025-02-12 15:24:28 -0500 (Wed, 12 Feb 2025) EllapsedTime: 23.4 seconds RetCode: 0 Status: OK