Package: DaMiRseq Version: 2.19.0 Command: /home/biocbuild/R/R/bin/R CMD INSTALL DaMiRseq StartedAt: 2025-01-29 20:25:52 -0000 (Wed, 29 Jan 2025) EndedAt: 2025-01-29 20:27:13 -0000 (Wed, 29 Jan 2025) EllapsedTime: 81.5 seconds RetCode: 0 Status: OK