Package: DaMiRseq Version: 2.19.0 Command: rm -rf DaMiRseq.buildbin-libdir && mkdir DaMiRseq.buildbin-libdir && /Users/biocbuild/BBS/utils/build-universal.sh DaMiRseq_2.19.0.tar.gz /Library/Frameworks/R.framework/Resources/bin/R DaMiRseq.buildbin-libdir StartedAt: 2025-02-10 00:49:29 -0500 (Mon, 10 Feb 2025) EndedAt: 2025-02-10 00:50:51 -0500 (Mon, 10 Feb 2025) EllapsedTime: 81.9 seconds RetCode: 0 Status: OK PackageFile: DaMiRseq_2.19.0.tgz PackageFileSize: 4.374 MiB