Package: DaMiRseq Version: 2.19.0 Command: /Library/Frameworks/R.framework/Resources/bin/R CMD build --keep-empty-dirs --no-resave-data DaMiRseq StartedAt: 2025-02-09 16:27:45 -0500 (Sun, 09 Feb 2025) EndedAt: 2025-02-09 16:36:58 -0500 (Sun, 09 Feb 2025) EllapsedTime: 553.0 seconds RetCode: 0 Status: OK PackageFile: DaMiRseq_2.19.0.tar.gz PackageFileSize: 4.216 MiB