Package: DaMiRseq Version: 2.19.0 Command: /home/biocbuild/bbs-3.21-bioc/R/bin/R CMD build --keep-empty-dirs --no-resave-data DaMiRseq StartedAt: 2025-02-12 16:50:23 -0500 (Wed, 12 Feb 2025) EndedAt: 2025-02-12 16:58:08 -0500 (Wed, 12 Feb 2025) EllapsedTime: 464.5 seconds RetCode: 0 Status: OK PackageFile: DaMiRseq_2.19.0.tar.gz PackageFileSize: 4.216 MiB