Package: DaMiRseq Version: 2.19.0 Command: E:\biocbuild\bbs-3.21-bioc\R\bin\R.exe CMD check --no-multiarch --install=check:DaMiRseq.install-out.txt --library=E:\biocbuild\bbs-3.21-bioc\R\library --no-vignettes --timings DaMiRseq_2.19.0.tar.gz StartedAt: 2025-02-10 00:11:52 -0500 (Mon, 10 Feb 2025) EndedAt: 2025-02-10 00:19:41 -0500 (Mon, 10 Feb 2025) EllapsedTime: 469.4 seconds RetCode: 0 Status: OK CheckDir: DaMiRseq.Rcheck Warnings: 0