Package: DaMiRseq Version: 2.19.0 Command: E:\biocbuild\bbs-3.21-bioc\R\bin\R.exe CMD INSTALL DaMiRseq StartedAt: 2025-02-12 16:44:24 -0500 (Wed, 12 Feb 2025) EndedAt: 2025-02-12 16:46:01 -0500 (Wed, 12 Feb 2025) EllapsedTime: 96.9 seconds RetCode: 0 Status: OK