Package: Damsel Version: 1.3.0 Command: /Library/Frameworks/R.framework/Resources/bin/R CMD build --keep-empty-dirs --no-resave-data Damsel StartedAt: 2025-02-04 16:04:08 -0500 (Tue, 04 Feb 2025) EndedAt: 2025-02-04 16:05:12 -0500 (Tue, 04 Feb 2025) EllapsedTime: 63.7 seconds RetCode: 0 Status: OK PackageFile: Damsel_1.3.0.tar.gz PackageFileSize: 3.319 MiB