Package: Damsel Version: 1.3.0 Command: /Library/Frameworks/R.framework/Resources/bin/R CMD check --install=check:Damsel.install-out.txt --library=/Library/Frameworks/R.framework/Resources/library --no-vignettes --timings Damsel_1.3.0.tar.gz StartedAt: 2025-02-09 18:50:16 -0500 (Sun, 09 Feb 2025) EndedAt: 2025-02-09 18:51:39 -0500 (Sun, 09 Feb 2025) EllapsedTime: 83.0 seconds RetCode: 0 Status: OK CheckDir: Damsel.Rcheck Warnings: 0