Package: Damsel Version: 1.3.0 Command: /home/biocbuild/R/R/bin/R CMD build --keep-empty-dirs --no-resave-data Damsel StartedAt: 2025-01-28 22:16:11 -0000 (Tue, 28 Jan 2025) EndedAt: 2025-01-28 22:20:07 -0000 (Tue, 28 Jan 2025) EllapsedTime: 236.1 seconds RetCode: 0 Status: OK PackageFile: Damsel_1.3.0.tar.gz PackageFileSize: 2.357 MiB