Package: Damsel Version: 1.3.0 Command: /home/biocbuild/R/R/bin/R CMD INSTALL Damsel StartedAt: 2025-01-29 20:10:29 -0000 (Wed, 29 Jan 2025) EndedAt: 2025-01-29 20:10:36 -0000 (Wed, 29 Jan 2025) EllapsedTime: 7.0 seconds RetCode: 0 Status: OK