Package: Damsel Version: 1.3.0 Command: rm -rf Damsel.buildbin-libdir && mkdir Damsel.buildbin-libdir && /Users/biocbuild/BBS/utils/build-universal.sh Damsel_1.3.0.tar.gz /Library/Frameworks/R.framework/Resources/bin/R Damsel.buildbin-libdir StartedAt: 2025-02-10 00:49:31 -0500 (Mon, 10 Feb 2025) EndedAt: 2025-02-10 00:49:41 -0500 (Mon, 10 Feb 2025) EllapsedTime: 9.2 seconds RetCode: 0 Status: OK PackageFile: Damsel_1.3.0.tgz PackageFileSize: 3.234 MiB