Package: Damsel Version: 1.3.0 Command: /Library/Frameworks/R.framework/Resources/bin/R CMD build --keep-empty-dirs --no-resave-data Damsel StartedAt: 2025-02-09 16:27:46 -0500 (Sun, 09 Feb 2025) EndedAt: 2025-02-09 16:30:39 -0500 (Sun, 09 Feb 2025) EllapsedTime: 172.8 seconds RetCode: 0 Status: OK PackageFile: Damsel_1.3.0.tar.gz PackageFileSize: 3.318 MiB