Package: Damsel Version: 1.3.0 Command: /home/biocbuild/bbs-3.21-bioc/R/bin/R CMD INSTALL Damsel StartedAt: 2025-02-04 15:46:30 -0500 (Tue, 04 Feb 2025) EndedAt: 2025-02-04 15:46:35 -0500 (Tue, 04 Feb 2025) EllapsedTime: 5.3 seconds RetCode: 0 Status: OK