Package: Damsel Version: 1.3.0 Command: rm -rf Damsel.buildbin-libdir && mkdir Damsel.buildbin-libdir && E:\biocbuild\bbs-3.21-bioc\R\bin\R.exe CMD INSTALL --build --library=Damsel.buildbin-libdir Damsel_1.3.0.tar.gz StartedAt: 2025-02-10 07:34:35 -0500 (Mon, 10 Feb 2025) EndedAt: 2025-02-10 07:35:02 -0500 (Mon, 10 Feb 2025) EllapsedTime: 27.1 seconds RetCode: 0 Status: OK PackageFile: Damsel_1.3.0.zip PackageFileSize: 1.996 MiB