Package: Damsel Version: 1.3.0 Command: chmod a+r Damsel -R && E:\biocbuild\bbs-3.21-bioc\R\bin\R.exe CMD build --keep-empty-dirs --no-resave-data Damsel StartedAt: 2025-02-09 18:10:52 -0500 (Sun, 09 Feb 2025) EndedAt: 2025-02-09 18:16:26 -0500 (Sun, 09 Feb 2025) EllapsedTime: 334.1 seconds RetCode: 0 Status: OK PackageFile: Damsel_1.3.0.tar.gz PackageFileSize: 2.069 MiB