Package: Damsel Version: 1.3.0 Command: E:\biocbuild\bbs-3.21-bioc\R\bin\R.exe CMD check --no-multiarch --install=check:Damsel.install-out.txt --library=E:\biocbuild\bbs-3.21-bioc\R\library --no-vignettes --timings Damsel_1.3.0.tar.gz StartedAt: 2025-02-10 00:12:22 -0500 (Mon, 10 Feb 2025) EndedAt: 2025-02-10 00:16:49 -0500 (Mon, 10 Feb 2025) EllapsedTime: 266.5 seconds RetCode: 0 Status: OK CheckDir: Damsel.Rcheck Warnings: 0