Package: DeProViR Version: 1.3.0 Command: /Library/Frameworks/R.framework/Resources/bin/R CMD build --keep-empty-dirs --no-resave-data DeProViR StartedAt: 2025-02-09 16:07:01 -0500 (Sun, 09 Feb 2025) EndedAt: 2025-02-09 16:15:49 -0500 (Sun, 09 Feb 2025) EllapsedTime: 527.5 seconds RetCode: 1 Status: ERROR PackageFile: None PackageFileSize: NA