Package: DeProViR Version: 1.3.0 Command: /Library/Frameworks/R.framework/Resources/bin/R CMD INSTALL DeProViR StartedAt: 2025-02-12 15:23:37 -0500 (Wed, 12 Feb 2025) EndedAt: 2025-02-12 15:23:42 -0500 (Wed, 12 Feb 2025) EllapsedTime: 5.3 seconds RetCode: 0 Status: OK