Package: DeProViR Version: 1.3.0 Command: /Library/Frameworks/R.framework/Resources/bin/R CMD INSTALL DeProViR StartedAt: 2025-02-09 15:37:27 -0500 (Sun, 09 Feb 2025) EndedAt: 2025-02-09 15:37:44 -0500 (Sun, 09 Feb 2025) EllapsedTime: 17.5 seconds RetCode: 0 Status: OK