Package: DeProViR Version: 1.3.0 Command: /home/biocbuild/bbs-3.21-bioc/R/bin/R CMD INSTALL DeProViR StartedAt: 2025-02-04 15:09:44 -0500 (Tue, 04 Feb 2025) EndedAt: 2025-02-04 15:09:58 -0500 (Tue, 04 Feb 2025) EllapsedTime: 13.8 seconds RetCode: 0 Status: OK