Package: DeProViR Version: 1.3.0 Command: chmod a+r DeProViR -R && E:\biocbuild\bbs-3.21-bioc\R\bin\R.exe CMD build --keep-empty-dirs --no-resave-data DeProViR StartedAt: 2025-02-09 18:18:29 -0500 (Sun, 09 Feb 2025) EndedAt: 2025-02-09 18:25:04 -0500 (Sun, 09 Feb 2025) EllapsedTime: 395.2 seconds RetCode: 1 Status: ERROR PackageFile: None PackageFileSize: NA