Package: DeProViR Version: 1.3.0 Command: E:\biocbuild\bbs-3.21-bioc\R\bin\R.exe CMD INSTALL DeProViR StartedAt: 2025-02-04 16:39:51 -0500 (Tue, 04 Feb 2025) EndedAt: 2025-02-04 16:40:14 -0500 (Tue, 04 Feb 2025) EllapsedTime: 23.2 seconds RetCode: 0 Status: OK