Package: DeconRNASeq Version: 1.49.0 Command: /home/biocbuild/R/R/bin/R CMD build --keep-empty-dirs --no-resave-data DeconRNASeq StartedAt: 2025-01-28 22:18:49 -0000 (Tue, 28 Jan 2025) EndedAt: 2025-01-28 22:19:04 -0000 (Tue, 28 Jan 2025) EllapsedTime: 15.0 seconds RetCode: 0 Status: OK PackageFile: DeconRNASeq_1.49.0.tar.gz PackageFileSize: 6.62 MiB