Package: DeconRNASeq Version: 1.49.0 Command: rm -rf DeconRNASeq.buildbin-libdir && mkdir DeconRNASeq.buildbin-libdir && /Users/biocbuild/BBS/utils/build-universal.sh DeconRNASeq_1.49.0.tar.gz /Library/Frameworks/R.framework/Resources/bin/R DeconRNASeq.buildbin-libdir StartedAt: 2025-02-13 00:32:59 -0500 (Thu, 13 Feb 2025) EndedAt: 2025-02-13 00:33:10 -0500 (Thu, 13 Feb 2025) EllapsedTime: 10.3 seconds RetCode: 0 Status: OK PackageFile: DeconRNASeq_1.49.0.tgz PackageFileSize: 6.662 MiB