Package: DeconRNASeq Version: 1.49.0 Command: /home/biocbuild/bbs-3.21-bioc/R/bin/R CMD INSTALL DeconRNASeq StartedAt: 2025-02-09 15:12:48 -0500 (Sun, 09 Feb 2025) EndedAt: 2025-02-09 15:12:53 -0500 (Sun, 09 Feb 2025) EllapsedTime: 5.6 seconds RetCode: 0 Status: OK