Package: DeepPINCS Version: 1.15.0 Command: /Library/Frameworks/R.framework/Resources/bin/R CMD build --keep-empty-dirs --no-resave-data DeepPINCS StartedAt: 2025-02-09 16:04:46 -0500 (Sun, 09 Feb 2025) EndedAt: 2025-02-09 16:05:07 -0500 (Sun, 09 Feb 2025) EllapsedTime: 21.2 seconds RetCode: 1 Status: ERROR PackageFile: None PackageFileSize: NA