Package: DeepPINCS Version: 1.15.0 Command: /home/biocbuild/R/R/bin/R CMD INSTALL DeepPINCS StartedAt: 2025-01-29 20:36:40 -0000 (Wed, 29 Jan 2025) EndedAt: 2025-01-29 20:37:04 -0000 (Wed, 29 Jan 2025) EllapsedTime: 23.2 seconds RetCode: 0 Status: OK