Package: DeepPINCS Version: 1.15.0 Command: /Library/Frameworks/R.framework/Resources/bin/R CMD INSTALL DeepPINCS StartedAt: 2025-02-04 15:44:26 -0500 (Tue, 04 Feb 2025) EndedAt: 2025-02-04 15:44:48 -0500 (Tue, 04 Feb 2025) EllapsedTime: 21.7 seconds RetCode: 0 Status: OK