Package: DeepPINCS Version: 1.15.0 Command: chmod a+r DeepPINCS -R && E:\biocbuild\bbs-3.21-bioc\R\bin\R.exe CMD build --keep-empty-dirs --no-resave-data DeepPINCS StartedAt: 2025-02-09 18:13:50 -0500 (Sun, 09 Feb 2025) EndedAt: 2025-02-09 18:15:59 -0500 (Sun, 09 Feb 2025) EllapsedTime: 129.0 seconds RetCode: 1 Status: ERROR PackageFile: None PackageFileSize: NA