Package: DeepTarget Version: 1.1.0 Command: rm -rf DeepTarget.buildbin-libdir && mkdir DeepTarget.buildbin-libdir && /Users/biocbuild/BBS/utils/build-universal.sh DeepTarget_1.1.0.tar.gz /Library/Frameworks/R.framework/Resources/bin/R DeepTarget.buildbin-libdir StartedAt: 2025-02-12 22:16:54 -0500 (Wed, 12 Feb 2025) EndedAt: 2025-02-12 22:17:03 -0500 (Wed, 12 Feb 2025) EllapsedTime: 9.1 seconds RetCode: 0 Status: OK PackageFile: DeepTarget_1.1.0.tgz PackageFileSize: 2.818 MiB