Package: DeepTarget Version: 1.1.0 Command: /Library/Frameworks/R.framework/Resources/bin/R CMD check --install=check:DeepTarget.install-out.txt --library=/Library/Frameworks/R.framework/Resources/library --no-vignettes --timings DeepTarget_1.1.0.tar.gz StartedAt: 2025-02-09 18:52:28 -0500 (Sun, 09 Feb 2025) EndedAt: 2025-02-09 18:54:04 -0500 (Sun, 09 Feb 2025) EllapsedTime: 96.1 seconds RetCode: 0 Status: OK CheckDir: DeepTarget.Rcheck Warnings: 0