Package: DeepTarget Version: 1.1.0 Command: /Library/Frameworks/R.framework/Resources/bin/R CMD INSTALL DeepTarget StartedAt: 2025-02-09 15:43:23 -0500 (Sun, 09 Feb 2025) EndedAt: 2025-02-09 15:43:58 -0500 (Sun, 09 Feb 2025) EllapsedTime: 34.8 seconds RetCode: 0 Status: OK