Package: DeepTarget Version: 1.1.0 Command: /home/biocbuild/bbs-3.21-bioc/R/bin/R CMD check --install=check:DeepTarget.install-out.txt --library=/home/biocbuild/bbs-3.21-bioc/R/site-library --timings DeepTarget_1.1.0.tar.gz StartedAt: 2025-02-09 21:33:58 -0500 (Sun, 09 Feb 2025) EndedAt: 2025-02-09 21:38:29 -0500 (Sun, 09 Feb 2025) EllapsedTime: 270.3 seconds RetCode: 0 Status: OK CheckDir: DeepTarget.Rcheck Warnings: 0