Package: DeepTarget Version: 1.1.0 Command: chmod a+r DeepTarget -R && E:\biocbuild\bbs-3.21-bioc\R\bin\R.exe CMD build --keep-empty-dirs --no-resave-data DeepTarget StartedAt: 2025-02-09 18:14:22 -0500 (Sun, 09 Feb 2025) EndedAt: 2025-02-09 18:15:35 -0500 (Sun, 09 Feb 2025) EllapsedTime: 73.7 seconds RetCode: 0 Status: OK PackageFile: DeepTarget_1.1.0.tar.gz PackageFileSize: 2.338 MiB