Package: DeepTarget Version: 1.1.0 Command: E:\biocbuild\bbs-3.21-bioc\R\bin\R.exe CMD check --no-multiarch --install=check:DeepTarget.install-out.txt --library=E:\biocbuild\bbs-3.21-bioc\R\library --no-vignettes --timings DeepTarget_1.1.0.tar.gz StartedAt: 2025-02-10 00:16:56 -0500 (Mon, 10 Feb 2025) EndedAt: 2025-02-10 00:27:18 -0500 (Mon, 10 Feb 2025) EllapsedTime: 621.8 seconds RetCode: 0 Status: OK CheckDir: DeepTarget.Rcheck Warnings: 0