Package: DegCre Version: 1.3.0 Command: rm -rf DegCre.buildbin-libdir && mkdir DegCre.buildbin-libdir && /Users/biocbuild/BBS/utils/build-universal.sh DegCre_1.3.0.tar.gz /Library/Frameworks/R.framework/Resources/bin/R DegCre.buildbin-libdir StartedAt: 2025-02-03 22:47:35 -0500 (Mon, 03 Feb 2025) EndedAt: 2025-02-03 22:47:54 -0500 (Mon, 03 Feb 2025) EllapsedTime: 18.3 seconds RetCode: 0 Status: OK PackageFile: DegCre_1.3.0.tgz PackageFileSize: 2.546 MiB