Package: DegCre Version: 1.3.0 Command: /Library/Frameworks/R.framework/Resources/bin/R CMD build --keep-empty-dirs --no-resave-data DegCre StartedAt: 2025-02-09 16:05:24 -0500 (Sun, 09 Feb 2025) EndedAt: 2025-02-09 16:05:59 -0500 (Sun, 09 Feb 2025) EllapsedTime: 34.4 seconds RetCode: 0 Status: OK PackageFile: DegCre_1.3.0.tar.gz PackageFileSize: 2.423 MiB