Package: DegCre Version: 1.3.0 Command: /Library/Frameworks/R.framework/Resources/bin/R CMD check --install=check:DegCre.install-out.txt --library=/Library/Frameworks/R.framework/Resources/library --no-vignettes --timings DegCre_1.3.0.tar.gz StartedAt: 2025-02-03 19:29:44 -0500 (Mon, 03 Feb 2025) EndedAt: 2025-02-03 19:32:23 -0500 (Mon, 03 Feb 2025) EllapsedTime: 159.9 seconds RetCode: 0 Status: OK CheckDir: DegCre.Rcheck Warnings: 0