Package: DegCre Version: 1.3.0 Command: /home/biocbuild/R/R/bin/R CMD INSTALL DegCre StartedAt: 2025-01-29 19:59:43 -0000 (Wed, 29 Jan 2025) EndedAt: 2025-01-29 20:00:39 -0000 (Wed, 29 Jan 2025) EllapsedTime: 56.2 seconds RetCode: 0 Status: OK