Package: DegCre Version: 1.3.0 Command: rm -rf DegCre.buildbin-libdir && mkdir DegCre.buildbin-libdir && /Users/biocbuild/BBS/utils/build-universal.sh DegCre_1.3.0.tar.gz /Library/Frameworks/R.framework/Resources/bin/R DegCre.buildbin-libdir StartedAt: 2025-02-10 00:49:53 -0500 (Mon, 10 Feb 2025) EndedAt: 2025-02-10 00:50:52 -0500 (Mon, 10 Feb 2025) EllapsedTime: 58.9 seconds RetCode: 0 Status: OK PackageFile: DegCre_1.3.0.tgz PackageFileSize: 2.542 MiB